BEGIN:VCALENDAR
VERSION:2.0
PRODID:-//Edgeworth Sport and Rec Club - ECPv6.15.16.1//NONSGML v1.0//EN
CALSCALE:GREGORIAN
METHOD:PUBLISH
X-ORIGINAL-URL:https://edgeworthsportandrec.com.au
X-WR-CALDESC:Events for Edgeworth Sport and Rec Club
REFRESH-INTERVAL;VALUE=DURATION:PT1H
X-Robots-Tag:noindex
X-PUBLISHED-TTL:PT1H
BEGIN:VTIMEZONE
TZID:Australia/Sydney
BEGIN:STANDARD
TZOFFSETFROM:+1100
TZOFFSETTO:+1000
TZNAME:AEST
DTSTART:20240406T160000
END:STANDARD
BEGIN:DAYLIGHT
TZOFFSETFROM:+1000
TZOFFSETTO:+1100
TZNAME:AEDT
DTSTART:20241005T160000
END:DAYLIGHT
BEGIN:STANDARD
TZOFFSETFROM:+1100
TZOFFSETTO:+1000
TZNAME:AEST
DTSTART:20250405T160000
END:STANDARD
BEGIN:DAYLIGHT
TZOFFSETFROM:+1000
TZOFFSETTO:+1100
TZNAME:AEDT
DTSTART:20251004T160000
END:DAYLIGHT
BEGIN:STANDARD
TZOFFSETFROM:+1100
TZOFFSETTO:+1000
TZNAME:AEST
DTSTART:20260404T160000
END:STANDARD
BEGIN:DAYLIGHT
TZOFFSETFROM:+1000
TZOFFSETTO:+1100
TZNAME:AEDT
DTSTART:20261003T160000
END:DAYLIGHT
BEGIN:STANDARD
TZOFFSETFROM:+1100
TZOFFSETTO:+1000
TZNAME:AEST
DTSTART:20270403T160000
END:STANDARD
BEGIN:DAYLIGHT
TZOFFSETFROM:+1000
TZOFFSETTO:+1100
TZNAME:AEDT
DTSTART:20271002T160000
END:DAYLIGHT
END:VTIMEZONE
BEGIN:VEVENT
DTSTART;TZID=Australia/Sydney:20250305T084500
DTEND;TZID=Australia/Sydney:20250305T170000
DTSTAMP:20260423T113210
CREATED:20240103T011844Z
LAST-MODIFIED:20240401T104640Z
UID:10003337-1741164300-1741194000@edgeworthsportandrec.com.au
SUMMARY:WEDNESDAY OPEN BOWLS
DESCRIPTION:JOIN US FOR WEDNESDAY OPEN BOWLS \nNAMES DOWN BY 8:45AM
URL:https://edgeworthsportandrec.com.au/event/wednesday-open-bowls/2025-03-05/
CATEGORIES:weekly activities
ATTACH;FMTTYPE=image/jpeg:https://edgeworthsportandrec.com.au/wp-content/uploads/2023/03/DSC_1819-scaled.jpg
END:VEVENT
BEGIN:VEVENT
DTSTART;TZID=Australia/Sydney:20250305T103000
DTEND;TZID=Australia/Sydney:20250305T113000
DTSTAMP:20260423T113210
CREATED:20240507T111736Z
LAST-MODIFIED:20240507T112013Z
UID:10004143-1741170600-1741174200@edgeworthsportandrec.com.au
SUMMARY:Wednesday over 50s exercise class
DESCRIPTION:
URL:https://edgeworthsportandrec.com.au/event/wednesday-over-50s-exercise-class/2025-03-05/
CATEGORIES:weekly activities
ATTACH;FMTTYPE=image/png:https://edgeworthsportandrec.com.au/wp-content/uploads/2024/05/50s-exercise-1920-x-1080-px1.png
END:VEVENT
BEGIN:VEVENT
DTSTART;TZID=Australia/Sydney:20250306T110000
DTEND;TZID=Australia/Sydney:20250306T110000
DTSTAMP:20260423T113210
CREATED:20240320T123122Z
LAST-MODIFIED:20260109T035846Z
UID:10002034-1741258800-1741258800@edgeworthsportandrec.com.au
SUMMARY:BINGO
DESCRIPTION:
URL:https://edgeworthsportandrec.com.au/event/hunter-care-bingo-2/2025-03-06/
CATEGORIES:weekly activities
ATTACH;FMTTYPE=image/jpeg:https://edgeworthsportandrec.com.au/wp-content/uploads/2024/03/CASH-HOUSIE.jpg
END:VEVENT
BEGIN:VEVENT
DTSTART;TZID=Australia/Sydney:20250306T173000
DTEND;TZID=Australia/Sydney:20250306T173000
DTSTAMP:20260423T113210
CREATED:20240103T012535Z
LAST-MODIFIED:20240507T123231Z
UID:10005196-1741282200-1741282200@edgeworthsportandrec.com.au
SUMMARY:NIGHT BOWLS - OPEN
DESCRIPTION:JOIN US THURSDAY EVENINGS ON THE GREEN FOR OUR OPEN BOWLS NIGHT \nNAMES DOWN BY 5:30PM
URL:https://edgeworthsportandrec.com.au/event/night-bowls-open/2025-03-06/
ATTACH;FMTTYPE=image/jpeg:https://edgeworthsportandrec.com.au/wp-content/uploads/2024/01/IMG_8408.jpeg
END:VEVENT
BEGIN:VEVENT
DTSTART;TZID=Australia/Sydney:20250307T103000
DTEND;TZID=Australia/Sydney:20250307T113000
DTSTAMP:20260423T113210
CREATED:20240707T101356Z
LAST-MODIFIED:20240707T101411Z
UID:10005976-1741343400-1741347000@edgeworthsportandrec.com.au
SUMMARY:FRIDAY EXERCISE CLASS
DESCRIPTION:
URL:https://edgeworthsportandrec.com.au/event/friday-exercise-class/2025-03-07/
ATTACH;FMTTYPE=image/png:https://edgeworthsportandrec.com.au/wp-content/uploads/2024/05/Fri-exercise.png
END:VEVENT
BEGIN:VEVENT
DTSTART;TZID=Australia/Sydney:20250307T170000
DTEND;TZID=Australia/Sydney:20250307T190000
DTSTAMP:20260423T113210
CREATED:20240312T120408Z
LAST-MODIFIED:20260105T090717Z
UID:10008994-1741366800-1741374000@edgeworthsportandrec.com.au
SUMMARY:Friday Night Raffle
DESCRIPTION:
URL:https://edgeworthsportandrec.com.au/event/mike-horbacz/2025-03-07/
CATEGORIES:raffles,weekly activities
ATTACH;FMTTYPE=image/jpeg:https://edgeworthsportandrec.com.au/wp-content/uploads/2024/03/premium-quality-meat-trays-1920-x-1080-px-1497-x-786-mm-scaled.jpg
END:VEVENT
BEGIN:VEVENT
DTSTART;TZID=Australia/Sydney:20250308T130000
DTEND;TZID=Australia/Sydney:20250308T170000
DTSTAMP:20260423T113210
CREATED:20240103T013409Z
LAST-MODIFIED:20240401T105651Z
UID:10003620-1741438800-1741453200@edgeworthsportandrec.com.au
SUMMARY:SATURDAY OPEN BOWLS
DESCRIPTION:JOIN THE CLUB FOR A AFTERNOON GAME ON THE GREEN \nOPEN BOWLS DAY \nNAMES DOWN BY 12:45 PM
URL:https://edgeworthsportandrec.com.au/event/saturday-open-bowls/2025-03-08/
CATEGORIES:weekly activities
ATTACH;FMTTYPE=image/jpeg:https://edgeworthsportandrec.com.au/wp-content/uploads/2024/01/Image.jpeg
END:VEVENT
BEGIN:VEVENT
DTSTART;TZID=Australia/Sydney:20250309T160000
DTEND;TZID=Australia/Sydney:20250309T173000
DTSTAMP:20260423T113210
CREATED:20240125T133719Z
LAST-MODIFIED:20250629T133934Z
UID:10005457-1741536000-1741541400@edgeworthsportandrec.com.au
SUMMARY:Sunday Raffles
DESCRIPTION:
URL:https://edgeworthsportandrec.com.au/event/grunge-af-tribute-night/2025-03-09/
CATEGORIES:raffles,weekly activities
ATTACH;FMTTYPE=image/png:https://edgeworthsportandrec.com.au/wp-content/uploads/2024/01/sunday-Raffle.png
END:VEVENT
BEGIN:VEVENT
DTSTART;TZID=Australia/Sydney:20250311T180000
DTEND;TZID=Australia/Sydney:20250311T200000
DTSTAMP:20260423T113210
CREATED:20240320T122158Z
LAST-MODIFIED:20240507T112239Z
UID:10003884-1741716000-1741723200@edgeworthsportandrec.com.au
SUMMARY:Euchre
DESCRIPTION:
URL:https://edgeworthsportandrec.com.au/event/euchre/2025-03-11/
CATEGORIES:Entertainment,weekly activities
ATTACH;FMTTYPE=image/jpeg:https://edgeworthsportandrec.com.au/wp-content/uploads/2024/03/EUCHRE-1920-x-1080-px.jpg
END:VEVENT
BEGIN:VEVENT
DTSTART;TZID=Australia/Sydney:20250311T190000
DTEND;TZID=Australia/Sydney:20250311T203000
DTSTAMP:20260423T113210
CREATED:20240707T101040Z
LAST-MODIFIED:20240707T101141Z
UID:10005716-1741719600-1741725000@edgeworthsportandrec.com.au
SUMMARY:TRIVIA
DESCRIPTION:
URL:https://edgeworthsportandrec.com.au/event/3219/2025-03-11/
CATEGORIES:Entertainment,weekly activities
ATTACH;FMTTYPE=image/png:https://edgeworthsportandrec.com.au/wp-content/uploads/2024/07/TUES-DAY-TRIVIA-1920-x-1080-px.png
END:VEVENT
BEGIN:VEVENT
DTSTART;TZID=Australia/Sydney:20250413T173000
DTEND;TZID=Australia/Sydney:20250413T180000
DTSTAMP:20260423T113210
CREATED:20250411T112034Z
LAST-MODIFIED:20250411T112034Z
UID:10008120-1744565400-1744567200@edgeworthsportandrec.com.au
SUMMARY:MEMBERS POINT DRAW
DESCRIPTION:
URL:https://edgeworthsportandrec.com.au/event/members-point-draw/2025-04-13/
CATEGORIES:raffles,weekly activities
ATTACH;FMTTYPE=image/jpeg:https://edgeworthsportandrec.com.au/wp-content/uploads/2025/04/members-1497-x-786-mm-scaled.jpg
END:VEVENT
BEGIN:VEVENT
DTSTART;TZID=Australia/Sydney:20250417T100000
DTEND;TZID=Australia/Sydney:20250417T150000
DTSTAMP:20260423T113210
CREATED:20250411T114714Z
LAST-MODIFIED:20250411T114724Z
UID:10002562-1744884000-1744902000@edgeworthsportandrec.com.au
SUMMARY:LADIES CRAFT
DESCRIPTION:
URL:https://edgeworthsportandrec.com.au/event/knitting-club-2-2-2/2025-04-17/
CATEGORIES:weekly activities
ATTACH;FMTTYPE=image/png:https://edgeworthsportandrec.com.au/wp-content/uploads/2022/12/The-Craft-Workshop-Instagram-Post.png
END:VEVENT
BEGIN:VEVENT
DTSTART;TZID=Australia/Sydney:20260301T140000
DTEND;TZID=Australia/Sydney:20260301T170000
DTSTAMP:20260423T113210
CREATED:20260224T065433Z
LAST-MODIFIED:20260224T065458Z
UID:10010097-1772373600-1772384400@edgeworthsportandrec.com.au
SUMMARY:Sunday Music - From 2pm
DESCRIPTION:
URL:https://edgeworthsportandrec.com.au/event/sunday-music-2-2/2026-03-01/
END:VEVENT
END:VCALENDAR