BEGIN:VCALENDAR
VERSION:2.0
PRODID:-//Edgeworth Sport and Rec Club - ECPv6.15.16.1//NONSGML v1.0//EN
CALSCALE:GREGORIAN
METHOD:PUBLISH
X-WR-CALNAME:Edgeworth Sport and Rec Club
X-ORIGINAL-URL:https://edgeworthsportandrec.com.au
X-WR-CALDESC:Events for Edgeworth Sport and Rec Club
REFRESH-INTERVAL;VALUE=DURATION:PT1H
X-Robots-Tag:noindex
X-PUBLISHED-TTL:PT1H
BEGIN:VTIMEZONE
TZID:Australia/Sydney
BEGIN:STANDARD
TZOFFSETFROM:+1100
TZOFFSETTO:+1000
TZNAME:AEST
DTSTART:20250405T160000
END:STANDARD
BEGIN:DAYLIGHT
TZOFFSETFROM:+1000
TZOFFSETTO:+1100
TZNAME:AEDT
DTSTART:20251004T160000
END:DAYLIGHT
BEGIN:STANDARD
TZOFFSETFROM:+1100
TZOFFSETTO:+1000
TZNAME:AEST
DTSTART:20260404T160000
END:STANDARD
BEGIN:DAYLIGHT
TZOFFSETFROM:+1000
TZOFFSETTO:+1100
TZNAME:AEDT
DTSTART:20261003T160000
END:DAYLIGHT
BEGIN:STANDARD
TZOFFSETFROM:+1100
TZOFFSETTO:+1000
TZNAME:AEST
DTSTART:20270403T160000
END:STANDARD
BEGIN:DAYLIGHT
TZOFFSETFROM:+1000
TZOFFSETTO:+1100
TZNAME:AEDT
DTSTART:20271002T160000
END:DAYLIGHT
END:VTIMEZONE
BEGIN:VEVENT
DTSTART;TZID=Australia/Sydney:20260423T160000
DTEND;TZID=Australia/Sydney:20260423T180000
DTSTAMP:20260423T150811
CREATED:20260418T073205Z
LAST-MODIFIED:20260418T073206Z
UID:10007909-1776960000-1776967200@edgeworthsportandrec.com.au
SUMMARY:HAPPY HOUR
DESCRIPTION:
URL:https://edgeworthsportandrec.com.au/event/happy-spirit-hour-2-4/
CATEGORIES:happy-hour,weekly activities
END:VEVENT
BEGIN:VEVENT
DTSTART;TZID=Australia/Sydney:20260423T173000
DTEND;TZID=Australia/Sydney:20260423T173000
DTSTAMP:20260423T150811
CREATED:20240103T012535Z
LAST-MODIFIED:20240507T123231Z
UID:10005255-1776965400-1776965400@edgeworthsportandrec.com.au
SUMMARY:NIGHT BOWLS - OPEN
DESCRIPTION:JOIN US THURSDAY EVENINGS ON THE GREEN FOR OUR OPEN BOWLS NIGHT \nNAMES DOWN BY 5:30PM
URL:https://edgeworthsportandrec.com.au/event/night-bowls-open/2026-04-23/
ATTACH;FMTTYPE=image/jpeg:https://edgeworthsportandrec.com.au/wp-content/uploads/2024/01/IMG_8408.jpeg
END:VEVENT
BEGIN:VEVENT
DTSTART;TZID=Australia/Sydney:20260424T103000
DTEND;TZID=Australia/Sydney:20260424T113000
DTSTAMP:20260423T150811
CREATED:20240507T112727Z
LAST-MODIFIED:20240507T115712Z
UID:10004725-1777026600-1777030200@edgeworthsportandrec.com.au
SUMMARY:Friday over 50s exercise class
DESCRIPTION:
URL:https://edgeworthsportandrec.com.au/event/friday-over-50s-exercise-class/2026-04-24/
CATEGORIES:weekly activities
ATTACH;FMTTYPE=image/png:https://edgeworthsportandrec.com.au/wp-content/uploads/2024/05/Fri-exercise.png
END:VEVENT
BEGIN:VEVENT
DTSTART;TZID=Australia/Sydney:20260424T103000
DTEND;TZID=Australia/Sydney:20260424T113000
DTSTAMP:20260423T150811
CREATED:20240707T101356Z
LAST-MODIFIED:20240707T101411Z
UID:10006035-1777026600-1777030200@edgeworthsportandrec.com.au
SUMMARY:FRIDAY EXERCISE CLASS
DESCRIPTION:
URL:https://edgeworthsportandrec.com.au/event/friday-exercise-class/2026-04-24/
ATTACH;FMTTYPE=image/png:https://edgeworthsportandrec.com.au/wp-content/uploads/2024/05/Fri-exercise.png
END:VEVENT
BEGIN:VEVENT
DTSTART;TZID=Australia/Sydney:20260424T170000
DTEND;TZID=Australia/Sydney:20260424T190000
DTSTAMP:20260423T150811
CREATED:20240312T120408Z
LAST-MODIFIED:20260105T090717Z
UID:10009053-1777050000-1777057200@edgeworthsportandrec.com.au
SUMMARY:Friday Night Raffle
DESCRIPTION:
URL:https://edgeworthsportandrec.com.au/event/mike-horbacz/2026-04-24/
CATEGORIES:raffles,weekly activities
ATTACH;FMTTYPE=image/jpeg:https://edgeworthsportandrec.com.au/wp-content/uploads/2024/03/premium-quality-meat-trays-1920-x-1080-px-1497-x-786-mm-scaled.jpg
END:VEVENT
BEGIN:VEVENT
DTSTART;TZID=Australia/Sydney:20260424T173000
DTEND;TZID=Australia/Sydney:20260424T180000
DTSTAMP:20260423T150811
CREATED:20250411T112034Z
LAST-MODIFIED:20250411T112034Z
UID:10008227-1777051800-1777053600@edgeworthsportandrec.com.au
SUMMARY:MEMBERS POINT DRAW
DESCRIPTION:
URL:https://edgeworthsportandrec.com.au/event/members-point-draw/2026-04-24/
CATEGORIES:raffles,weekly activities
ATTACH;FMTTYPE=image/jpeg:https://edgeworthsportandrec.com.au/wp-content/uploads/2025/04/members-1497-x-786-mm-scaled.jpg
END:VEVENT
BEGIN:VEVENT
DTSTART;TZID=Australia/Sydney:20260425T130000
DTEND;TZID=Australia/Sydney:20260425T170000
DTSTAMP:20260423T150811
CREATED:20240103T013409Z
LAST-MODIFIED:20240401T105651Z
UID:10003679-1777122000-1777136400@edgeworthsportandrec.com.au
SUMMARY:SATURDAY OPEN BOWLS
DESCRIPTION:JOIN THE CLUB FOR A AFTERNOON GAME ON THE GREEN \nOPEN BOWLS DAY \nNAMES DOWN BY 12:45 PM
URL:https://edgeworthsportandrec.com.au/event/saturday-open-bowls/2026-04-25/
CATEGORIES:weekly activities
ATTACH;FMTTYPE=image/jpeg:https://edgeworthsportandrec.com.au/wp-content/uploads/2024/01/Image.jpeg
END:VEVENT
BEGIN:VEVENT
DTSTART;TZID=Australia/Sydney:20260426T100000
DTEND;TZID=Australia/Sydney:20260426T150000
DTSTAMP:20260423T150811
CREATED:20250411T114714Z
LAST-MODIFIED:20250411T114724Z
UID:10002616-1777197600-1777215600@edgeworthsportandrec.com.au
SUMMARY:LADIES CRAFT
DESCRIPTION:
URL:https://edgeworthsportandrec.com.au/event/knitting-club-2-2-2/2026-04-26/
CATEGORIES:weekly activities
ATTACH;FMTTYPE=image/png:https://edgeworthsportandrec.com.au/wp-content/uploads/2022/12/The-Craft-Workshop-Instagram-Post.png
END:VEVENT
BEGIN:VEVENT
DTSTART;TZID=Australia/Sydney:20260426T140000
DTEND;TZID=Australia/Sydney:20260426T170000
DTSTAMP:20260423T150811
CREATED:20260224T065433Z
LAST-MODIFIED:20260224T065458Z
UID:10010160-1777212000-1777222800@edgeworthsportandrec.com.au
SUMMARY:Sunday Music - From 2pm
DESCRIPTION:
URL:https://edgeworthsportandrec.com.au/event/sunday-music-2-2/2026-04-26/
END:VEVENT
BEGIN:VEVENT
DTSTART;TZID=Australia/Sydney:20260426T160000
DTEND;TZID=Australia/Sydney:20260426T173000
DTSTAMP:20260423T150811
CREATED:20240125T133719Z
LAST-MODIFIED:20250629T133934Z
UID:10005516-1777219200-1777224600@edgeworthsportandrec.com.au
SUMMARY:Sunday Raffles
DESCRIPTION:
URL:https://edgeworthsportandrec.com.au/event/grunge-af-tribute-night/2026-04-26/
CATEGORIES:raffles,weekly activities
ATTACH;FMTTYPE=image/png:https://edgeworthsportandrec.com.au/wp-content/uploads/2024/01/sunday-Raffle.png
END:VEVENT
BEGIN:VEVENT
DTSTART;TZID=Australia/Sydney:20260428T180000
DTEND;TZID=Australia/Sydney:20260428T200000
DTSTAMP:20260423T150811
CREATED:20250720T081218Z
LAST-MODIFIED:20250720T081219Z
UID:10003943-1777399200-1777406400@edgeworthsportandrec.com.au
SUMMARY:Euchre
DESCRIPTION:
URL:https://edgeworthsportandrec.com.au/event/euchre-2/2026-04-28/
CATEGORIES:Entertainment,weekly activities
ATTACH;FMTTYPE=image/jpeg:https://edgeworthsportandrec.com.au/wp-content/uploads/2024/03/EUCHRE-1920-x-1080-px.jpg
END:VEVENT
BEGIN:VEVENT
DTSTART;TZID=Australia/Sydney:20260428T190000
DTEND;TZID=Australia/Sydney:20260428T203000
DTSTAMP:20260423T150811
CREATED:20250720T081118Z
LAST-MODIFIED:20250720T081119Z
UID:10005775-1777402800-1777408200@edgeworthsportandrec.com.au
SUMMARY:TRIVIA
DESCRIPTION:
URL:https://edgeworthsportandrec.com.au/event/3219-2/2026-04-28/
CATEGORIES:Entertainment,weekly activities
ATTACH;FMTTYPE=image/png:https://edgeworthsportandrec.com.au/wp-content/uploads/2024/07/TUES-DAY-TRIVIA-1920-x-1080-px.png
END:VEVENT
BEGIN:VEVENT
DTSTART;TZID=Australia/Sydney:20260430T110000
DTEND;TZID=Australia/Sydney:20260430T110000
DTSTAMP:20260423T150811
CREATED:20240320T123122Z
LAST-MODIFIED:20260109T035846Z
UID:10002094-1777546800-1777546800@edgeworthsportandrec.com.au
SUMMARY:BINGO
DESCRIPTION:
URL:https://edgeworthsportandrec.com.au/event/hunter-care-bingo-2/2026-04-30/
CATEGORIES:weekly activities
ATTACH;FMTTYPE=image/jpeg:https://edgeworthsportandrec.com.au/wp-content/uploads/2024/03/CASH-HOUSIE.jpg
END:VEVENT
END:VCALENDAR